BEGIN:VCALENDAR
VERSION:2.0
PRODID:-//Ask Bolton - ECPv6.15.17//NONSGML v1.0//EN
CALSCALE:GREGORIAN
METHOD:PUBLISH
X-ORIGINAL-URL:https://www.askbolton.com
X-WR-CALDESC:Events for Ask Bolton
REFRESH-INTERVAL;VALUE=DURATION:PT1H
X-Robots-Tag:noindex
X-PUBLISHED-TTL:PT1H
BEGIN:VTIMEZONE
TZID:America/New_York
BEGIN:DAYLIGHT
TZOFFSETFROM:-0500
TZOFFSETTO:-0400
TZNAME:EDT
DTSTART:20220313T070000
END:DAYLIGHT
BEGIN:STANDARD
TZOFFSETFROM:-0400
TZOFFSETTO:-0500
TZNAME:EST
DTSTART:20221106T060000
END:STANDARD
BEGIN:DAYLIGHT
TZOFFSETFROM:-0500
TZOFFSETTO:-0400
TZNAME:EDT
DTSTART:20230312T070000
END:DAYLIGHT
BEGIN:STANDARD
TZOFFSETFROM:-0400
TZOFFSETTO:-0500
TZNAME:EST
DTSTART:20231105T060000
END:STANDARD
BEGIN:DAYLIGHT
TZOFFSETFROM:-0500
TZOFFSETTO:-0400
TZNAME:EDT
DTSTART:20240310T070000
END:DAYLIGHT
BEGIN:STANDARD
TZOFFSETFROM:-0400
TZOFFSETTO:-0500
TZNAME:EST
DTSTART:20241103T060000
END:STANDARD
BEGIN:DAYLIGHT
TZOFFSETFROM:-0500
TZOFFSETTO:-0400
TZNAME:EDT
DTSTART:20250309T070000
END:DAYLIGHT
BEGIN:STANDARD
TZOFFSETFROM:-0400
TZOFFSETTO:-0500
TZNAME:EST
DTSTART:20251102T060000
END:STANDARD
END:VTIMEZONE
BEGIN:VEVENT
DTSTART;TZID=America/New_York:20240928T130000
DTEND;TZID=America/New_York:20240928T150000
DTSTAMP:20260420T033820
CREATED:20240325T195011Z
LAST-MODIFIED:20240325T195011Z
UID:1915-1727528400-1727535600@www.askbolton.com
SUMMARY:Oldie’s Concert at the Mainlands
DESCRIPTION:
URL:https://www.askbolton.com/event/oldies-concert-at-the-mainlands/
LOCATION:Caporella Park\, 5200 Prospect Rd\, Tamarac\, FL\, 33321\, United States
END:VEVENT
BEGIN:VEVENT
DTSTART;TZID=America/New_York:20240830T170000
DTEND;TZID=America/New_York:20240830T200000
DTSTAMP:20260420T033820
CREATED:20240325T200537Z
LAST-MODIFIED:20240325T200537Z
UID:1933-1725037200-1725048000@www.askbolton.com
SUMMARY:Sundown Splash: Food Truck Friday
DESCRIPTION:Sundown Splash: Family Pool Party Series
URL:https://www.askbolton.com/event/sundown-splash-food-truck-friday/
LOCATION:Caporella Aquatic Center\, 9300 NW 58th Street\, Tamarac\, United States (US) — Florida\, 33321\, United States
ATTACH;FMTTYPE=image/jpeg:https://www.askbolton.com/wp-content/uploads/2024/03/2024-Sundown-Splash-Family-Pool-Party-Series.jpg
END:VEVENT
BEGIN:VEVENT
DTSTART;TZID=America/New_York:20240726T170000
DTEND;TZID=America/New_York:20240726T200000
DTSTAMP:20260420T033820
CREATED:20240325T200440Z
LAST-MODIFIED:20240325T200459Z
UID:1931-1722013200-1722024000@www.askbolton.com
SUMMARY:Sundown Splash: Poolside Palette
DESCRIPTION:Sundown Splash: Family Pool Party Series
URL:https://www.askbolton.com/event/sundown-splash-poolside-palette/
LOCATION:Caporella Aquatic Center\, 9300 NW 58th Street\, Tamarac\, United States (US) — Florida\, 33321\, United States
ATTACH;FMTTYPE=image/jpeg:https://www.askbolton.com/wp-content/uploads/2024/03/2024-Sundown-Splash-Family-Pool-Party-Series.jpg
END:VEVENT
BEGIN:VEVENT
DTSTART;TZID=America/New_York:20240621T190000
DTEND;TZID=America/New_York:20240621T220000
DTSTAMP:20260420T033820
CREATED:20240325T200118Z
LAST-MODIFIED:20240325T200137Z
UID:1924-1718996400-1719007200@www.askbolton.com
SUMMARY:Dive-In Movie: Wonka
DESCRIPTION:
URL:https://www.askbolton.com/event/dive-in-movie-wonka/
LOCATION:Caporella Aquatic Center\, 9300 NW 58th Street\, Tamarac\, United States (US) — Florida\, 33321\, United States
ATTACH;FMTTYPE=image/jpeg:https://www.askbolton.com/wp-content/uploads/2024/03/2024-Dive-In-Movie-WONKA-scaled.jpg
END:VEVENT
BEGIN:VEVENT
DTSTART;TZID=America/New_York:20240615T190000
DTEND;TZID=America/New_York:20240615T213000
DTSTAMP:20260420T033820
CREATED:20240325T195710Z
LAST-MODIFIED:20240325T195710Z
UID:1920-1718478000-1718487000@www.askbolton.com
SUMMARY:Juneteenth Celebration 2024
DESCRIPTION:
URL:https://www.askbolton.com/event/juneteenth-celebration-2024/
LOCATION:Tamarac Sports Complex\, 9901 NW 77th Street\, Tamarac\, United States (US) — Florida\, 33321
ATTACH;FMTTYPE=image/jpeg:https://www.askbolton.com/wp-content/uploads/2024/03/Juneteenth-Flyer-scaled.jpg
END:VEVENT
BEGIN:VEVENT
DTSTART;TZID=America/New_York:20240608T180000
DTEND;TZID=America/New_York:20240608T210000
DTSTAMP:20260420T033820
CREATED:20240325T194806Z
LAST-MODIFIED:20240325T194859Z
UID:1913-1717869600-1717880400@www.askbolton.com
SUMMARY:Island Groove
DESCRIPTION:
URL:https://www.askbolton.com/event/island-groove/
LOCATION:Caporella Park\, 5200 Prospect Rd\, Tamarac\, FL\, 33321\, United States
END:VEVENT
BEGIN:VEVENT
DTSTART;TZID=America/New_York:20240524T170000
DTEND;TZID=America/New_York:20240524T200000
DTSTAMP:20260420T033820
CREATED:20240325T200359Z
LAST-MODIFIED:20240325T200359Z
UID:1928-1716570000-1716580800@www.askbolton.com
SUMMARY:Sundown Splash: Games Galore
DESCRIPTION:Sundown Splash: Family Pool Party Series
URL:https://www.askbolton.com/event/sundown-splash-games-galore/
LOCATION:Caporella Aquatic Center\, 9300 NW 58th Street\, Tamarac\, United States (US) — Florida\, 33321\, United States
ATTACH;FMTTYPE=image/jpeg:https://www.askbolton.com/wp-content/uploads/2024/03/2024-Sundown-Splash-Family-Pool-Party-Series.jpg
END:VEVENT
BEGIN:VEVENT
DTSTART;TZID=America/New_York:20240503T183000
DTEND;TZID=America/New_York:20240503T203000
DTSTAMP:20260420T033820
CREATED:20240325T195353Z
LAST-MODIFIED:20240410T175702Z
UID:1917-1714761000-1714768200@www.askbolton.com
SUMMARY:Mother’s Day Program
DESCRIPTION:
URL:https://www.askbolton.com/event/mothers-day-program/
LOCATION:Tamarac Community Center\, 8601 W Commercial Blvd.\, Tamarac\, FL\, 33351\, United States
ATTACH;FMTTYPE=image/jpeg:https://www.askbolton.com/wp-content/uploads/2024/03/Mothers-Day-Flyer-scaled.jpg
END:VEVENT
BEGIN:VEVENT
DTSTART;TZID=America/New_York:20240412T183000
DTEND;TZID=America/New_York:20240412T213000
DTSTAMP:20260420T033820
CREATED:20240325T193825Z
LAST-MODIFIED:20240325T193825Z
UID:1906-1712946600-1712957400@www.askbolton.com
SUMMARY:Movie in the Park: Super Pets
DESCRIPTION:
URL:https://www.askbolton.com/event/movie-in-the-park-super-pets/
LOCATION:Caporella Park\, 5200 Prospect Rd\, Tamarac\, FL\, 33321\, United States
ATTACH;FMTTYPE=image/jpeg:https://www.askbolton.com/wp-content/uploads/2024/03/Movie-in-the-Park-2024.jpg
END:VEVENT
BEGIN:VEVENT
DTSTART;TZID=America/New_York:20240301T190000
DTEND;TZID=America/New_York:20240301T210000
DTSTAMP:20260420T033820
CREATED:20240325T192951Z
LAST-MODIFIED:20240325T194531Z
UID:1899-1709319600-1709326800@www.askbolton.com
SUMMARY:Groove on the Grass: T-Wave
DESCRIPTION:
URL:https://www.askbolton.com/event/groove-on-the-grass-t-wave/
LOCATION:Caporella Park\, 5200 Prospect Rd\, Tamarac\, FL\, 33321\, United States
ATTACH;FMTTYPE=image/jpeg:https://www.askbolton.com/wp-content/uploads/2024/03/Groove-on-the-Grass-Flyer-FINAL-scaled.jpg
END:VEVENT
BEGIN:VEVENT
DTSTART;TZID=America/New_York:20231130T183000
DTEND;TZID=America/New_York:20231130T220000
DTSTAMP:20260420T033820
CREATED:20231025T061255Z
LAST-MODIFIED:20231025T061255Z
UID:1892-1701369000-1701381600@www.askbolton.com
SUMMARY:Holiday Lighting at Caporella Park
DESCRIPTION:
URL:https://www.askbolton.com/event/holiday-lighting-at-caporella-park/
LOCATION:Caporella Park\, 5200 Prospect Rd\, Tamarac\, FL\, 33321\, United States
END:VEVENT
BEGIN:VEVENT
DTSTART;TZID=America/New_York:20231123T073000
DTEND;TZID=America/New_York:20231123T110000
DTSTAMP:20260420T033820
CREATED:20231025T061143Z
LAST-MODIFIED:20231025T061143Z
UID:1887-1700724600-1700737200@www.askbolton.com
SUMMARY:Thanksgiving Day Turkey Trot 5K Race
DESCRIPTION:
URL:https://www.askbolton.com/event/thanksgiving-day-turkey-trot-5k-race/
LOCATION:Tamarac City Hall\, 7525 NW 88th Avenue\, Tamarac\, FL\, 33321\, United States
ATTACH;FMTTYPE=image/jpeg:https://www.askbolton.com/wp-content/uploads/2023/10/11.23-Tamarac-Turkey-Trot-Flyer-8.5x11-1-scaled.jpg
END:VEVENT
BEGIN:VEVENT
DTSTART;TZID=America/New_York:20231111T103000
DTEND;TZID=America/New_York:20231111T123000
DTSTAMP:20260420T033820
CREATED:20231025T060738Z
LAST-MODIFIED:20231025T060738Z
UID:1883-1699698600-1699705800@www.askbolton.com
SUMMARY:Veterans Day Ceremony
DESCRIPTION:
URL:https://www.askbolton.com/event/veterans-day-ceremony/
LOCATION:Veterans Park\, 7825 Southgate Blvd\, Tamarac\, Fl\, 33321\, United States
ATTACH;FMTTYPE=image/jpeg:https://www.askbolton.com/wp-content/uploads/2023/10/11.11-Veterans-Day-Ceremony.jpg
END:VEVENT
BEGIN:VEVENT
DTSTART;TZID=America/New_York:20231107T180000
DTEND;TZID=America/New_York:20231107T193000
DTSTAMP:20260420T033820
CREATED:20231025T060450Z
LAST-MODIFIED:20231025T060450Z
UID:1880-1699380000-1699385400@www.askbolton.com
SUMMARY:BSO Gun Safety Class
DESCRIPTION:
URL:https://www.askbolton.com/event/bso-gun-safety-class/
LOCATION:Tamarac Community Center\, 8601 W Commercial Blvd.\, Tamarac\, FL\, 33351\, United States
ATTACH;FMTTYPE=image/jpeg:https://www.askbolton.com/wp-content/uploads/2023/10/11.07-Gun_Safety_Flyer-2023.jpg
END:VEVENT
BEGIN:VEVENT
DTSTART;TZID=America/New_York:20231028T130000
DTEND;TZID=America/New_York:20231028T150000
DTSTAMP:20260420T033820
CREATED:20231025T060206Z
LAST-MODIFIED:20231025T060206Z
UID:1876-1698498000-1698505200@www.askbolton.com
SUMMARY:Grand Re-Opening of Caporella Park
DESCRIPTION:
URL:https://www.askbolton.com/event/grand-re-opening-of-caporella-park/
LOCATION:Caporella Park\, 5200 Prospect Rd\, Tamarac\, FL\, 33321\, United States
ATTACH;FMTTYPE=image/jpeg:https://www.askbolton.com/wp-content/uploads/2023/10/Caporella-Park-Grand-Re-Opening-Flyer-1-scaled.jpg
END:VEVENT
BEGIN:VEVENT
DTSTART;TZID=America/New_York:20231028T093000
DTEND;TZID=America/New_York:20231028T110000
DTSTAMP:20260420T033820
CREATED:20231025T055456Z
LAST-MODIFIED:20231025T055456Z
UID:1873-1698485400-1698490800@www.askbolton.com
SUMMARY:Painting Pumpkins with a Deputy
DESCRIPTION:
URL:https://www.askbolton.com/event/painting-pumpkins-with-a-deputy/
LOCATION:To Be Announced
END:VEVENT
BEGIN:VEVENT
DTSTART;TZID=America/New_York:20231027T183000
DTEND;TZID=America/New_York:20231027T200000
DTSTAMP:20260420T033820
CREATED:20231025T061648Z
LAST-MODIFIED:20231025T061825Z
UID:1894-1698431400-1698436800@www.askbolton.com
SUMMARY:Family Re-Union: Family Costume Day
DESCRIPTION:
URL:https://www.askbolton.com/event/family-re-union-family-costume-day/
LOCATION:Tamarac Community Center\, 8601 W Commercial Blvd.\, Tamarac\, FL\, 33351\, United States
ATTACH;FMTTYPE=image/jpeg:https://www.askbolton.com/wp-content/uploads/2023/10/10.27-Family-ReUnion-Monthly-Activities-Flyers-scaled.jpg
END:VEVENT
BEGIN:VEVENT
DTSTART;TZID=America/New_York:20230926T183000
DTEND;TZID=America/New_York:20230926T200000
DTSTAMP:20260420T033820
CREATED:20230728T181411Z
LAST-MODIFIED:20230728T181411Z
UID:1864-1695753000-1695758400@www.askbolton.com
SUMMARY:Family Re-Union
DESCRIPTION:
URL:https://www.askbolton.com/event/family-re-union-2/
LOCATION:Tamarac Community Center\, 8601 W Commercial Blvd.\, Tamarac\, FL\, 33351\, United States
ATTACH;FMTTYPE=image/jpeg:https://www.askbolton.com/wp-content/uploads/2023/07/8.11-Family-Reunion-August-2023-scaled.jpg
END:VEVENT
BEGIN:VEVENT
DTSTART;TZID=America/New_York:20230923T100000
DTEND;TZID=America/New_York:20230923T130000
DTSTAMP:20260420T033820
CREATED:20230728T180840Z
LAST-MODIFIED:20230728T180840Z
UID:1859-1695463200-1695474000@www.askbolton.com
SUMMARY:Vintage Family Fun Day
DESCRIPTION:
URL:https://www.askbolton.com/event/vintage-family-fun-day/
LOCATION:Mainlands Park\, 4509 Monterey Dr\, Tamarac\, FL\, 33\, United States
ATTACH;FMTTYPE=image/jpeg:https://www.askbolton.com/wp-content/uploads/2023/07/9.23-Vintage-Family-Fun-Day-scaled.jpg
END:VEVENT
BEGIN:VEVENT
DTSTART;TZID=America/New_York:20230822T183000
DTEND;TZID=America/New_York:20230822T210000
DTSTAMP:20260420T033820
CREATED:20230728T180422Z
LAST-MODIFIED:20230728T180422Z
UID:1857-1692729000-1692738000@www.askbolton.com
SUMMARY:Citywide Comprehensive Plan Meeting\, Public Input Workshop
DESCRIPTION:
URL:https://www.askbolton.com/event/citywide-comprehensive-plan-meeting-public-input-workshop/
LOCATION:Tamarac Community Center\, 8601 W Commercial Blvd.\, Tamarac\, FL\, 33351\, United States
ATTACH;FMTTYPE=image/jpeg:https://www.askbolton.com/wp-content/uploads/2023/07/8.22-CityWide-Comprehensive-Plan.jpg
END:VEVENT
BEGIN:VEVENT
DTSTART;TZID=America/New_York:20230811T183000
DTEND;TZID=America/New_York:20230811T200000
DTSTAMP:20260420T033820
CREATED:20230728T180150Z
LAST-MODIFIED:20230728T180150Z
UID:1855-1691778600-1691784000@www.askbolton.com
SUMMARY:Family Re-Union
DESCRIPTION:
URL:https://www.askbolton.com/event/family-re-union/
LOCATION:Tamarac Community Center\, 8601 W Commercial Blvd.\, Tamarac\, FL\, 33351\, United States
ATTACH;FMTTYPE=image/jpeg:https://www.askbolton.com/wp-content/uploads/2023/07/8.11-Family-Reunion-August-2023-scaled.jpg
END:VEVENT
BEGIN:VEVENT
DTSTART;TZID=America/New_York:20230805T100000
DTEND;TZID=America/New_York:20230805T130000
DTSTAMP:20260420T033820
CREATED:20230728T180026Z
LAST-MODIFIED:20230728T180026Z
UID:1853-1691229600-1691240400@www.askbolton.com
SUMMARY:Back to School Splash
DESCRIPTION:
URL:https://www.askbolton.com/event/back-to-school-splash/
LOCATION:Tamarac Aquatic Center\, 9300 NW 58th St\, Tamarac\, FL\, 33351\, United States
ATTACH;FMTTYPE=image/jpeg:https://www.askbolton.com/wp-content/uploads/2023/07/8.5-Back-to-School-Splash-scaled.jpg
END:VEVENT
BEGIN:VEVENT
DTSTART;TZID=America/New_York:20230722T100000
DTEND;TZID=America/New_York:20230722T130000
DTSTAMP:20260420T033820
CREATED:20230728T175904Z
LAST-MODIFIED:20230728T175904Z
UID:1850-1690020000-1690030800@www.askbolton.com
SUMMARY:Summer Splash with Santa
DESCRIPTION:
URL:https://www.askbolton.com/event/summer-splash-with-santa/
LOCATION:Tamarac Aquatic Center\, 9300 NW 58th St\, Tamarac\, FL\, 33351\, United States
ATTACH;FMTTYPE=image/jpeg:https://www.askbolton.com/wp-content/uploads/2023/07/7.22-July-22-Summer-Splash-with-Santa-scaled.jpg
END:VEVENT
BEGIN:VEVENT
DTSTART;TZID=America/New_York:20230719T183000
DTEND;TZID=America/New_York:20230719T203000
DTSTAMP:20260420T033820
CREATED:20230728T175507Z
LAST-MODIFIED:20230728T175507Z
UID:1847-1689791400-1689798600@www.askbolton.com
SUMMARY:Tamarac Shines Bright Like a Diamond 60th Anniversary Bash
DESCRIPTION:
URL:https://www.askbolton.com/event/tamarac-shines-bright-like-a-diamond-60th-anniversary-bash/
LOCATION:Tamarac Community Center\, 8601 W Commercial Blvd.\, Tamarac\, FL\, 33351\, United States
ATTACH;FMTTYPE=image/jpeg:https://www.askbolton.com/wp-content/uploads/2023/07/7.19-Tamarac-Shines-Bright-Like-a-Diamond-Flyer.jpg
END:VEVENT
END:VCALENDAR